BEGIN:VCALENDAR
VERSION:2.0
PRODID:-//Susquehanna Workforce Network - ECPv6.15.20//NONSGML v1.0//EN
CALSCALE:GREGORIAN
METHOD:PUBLISH
X-ORIGINAL-URL:https://www.swnetwork.org
X-WR-CALDESC:Events for Susquehanna Workforce Network
REFRESH-INTERVAL;VALUE=DURATION:PT1H
X-Robots-Tag:noindex
X-PUBLISHED-TTL:PT1H
BEGIN:VTIMEZONE
TZID:America/New_York
BEGIN:DAYLIGHT
TZOFFSETFROM:-0500
TZOFFSETTO:-0400
TZNAME:EDT
DTSTART:20210314T070000
END:DAYLIGHT
BEGIN:STANDARD
TZOFFSETFROM:-0400
TZOFFSETTO:-0500
TZNAME:EST
DTSTART:20211107T060000
END:STANDARD
BEGIN:DAYLIGHT
TZOFFSETFROM:-0500
TZOFFSETTO:-0400
TZNAME:EDT
DTSTART:20220313T070000
END:DAYLIGHT
BEGIN:STANDARD
TZOFFSETFROM:-0400
TZOFFSETTO:-0500
TZNAME:EST
DTSTART:20221106T060000
END:STANDARD
BEGIN:DAYLIGHT
TZOFFSETFROM:-0500
TZOFFSETTO:-0400
TZNAME:EDT
DTSTART:20230312T070000
END:DAYLIGHT
BEGIN:STANDARD
TZOFFSETFROM:-0400
TZOFFSETTO:-0500
TZNAME:EST
DTSTART:20231105T060000
END:STANDARD
END:VTIMEZONE
BEGIN:VEVENT
DTSTART;TZID=America/New_York:20221103T120000
DTEND;TZID=America/New_York:20221103T140000
DTSTAMP:20260424T092918
CREATED:20230929T224012Z
LAST-MODIFIED:20230929T224012Z
UID:10000127-1667476800-1667484000@www.swnetwork.org
SUMMARY:Hot Jobs Live!
DESCRIPTION:SWN offers a “Hot Jobs” report to our many partners and organizations each Thursday promoting area job openings.\nOn Thursday\, November 3rd come meet with the recruiters “Live” that will be hiring for open positions.  Noon-2pm \nTHE GROUNDFLOOR\n(2021 Pulaski Hwy\, Suite G\, Havre de Grace\, MD 21078)
URL:https://www.swnetwork.org/event/hot-jobs-live-3/
CATEGORIES:Community Events,Job Fair
ATTACH;FMTTYPE=image/png:https://eadn-wc02-11422586.nxedge.io/wp-content/uploads/2023/09/Nov-3-Hot-Jobs-Live-JOBSEEKER-FLYER-with-Businesses-Listed-Instagram-Post-Square-3-lIJfny.tmp_.png
END:VEVENT
BEGIN:VEVENT
DTSTART;TZID=America/New_York:20221104T100000
DTEND;TZID=America/New_York:20221104T120000
DTSTAMP:20260424T092918
CREATED:20230929T224052Z
LAST-MODIFIED:20230929T224052Z
UID:10000139-1667556000-1667563200@www.swnetwork.org
SUMMARY:Virtual Employment Expo
DESCRIPTION:Plan to meet and interview with local employers.
URL:https://www.swnetwork.org/event/virtual-employment-expo/
CATEGORIES:Community Events
ATTACH;FMTTYPE=image/jpeg:https://eadn-wc02-11422586.nxedge.io/wp-content/uploads/2023/09/2022-Employment-Expo-Flyer-YOutMO.tmp_.jpg
END:VEVENT
END:VCALENDAR