BEGIN:VCALENDAR
VERSION:2.0
PRODID:-//Susquehanna Workforce Network - ECPv6.15.20//NONSGML v1.0//EN
CALSCALE:GREGORIAN
METHOD:PUBLISH
X-WR-CALNAME:Susquehanna Workforce Network
X-ORIGINAL-URL:https://www.swnetwork.org
X-WR-CALDESC:Events for Susquehanna Workforce Network
REFRESH-INTERVAL;VALUE=DURATION:PT1H
X-Robots-Tag:noindex
X-PUBLISHED-TTL:PT1H
BEGIN:VTIMEZONE
TZID:America/New_York
BEGIN:DAYLIGHT
TZOFFSETFROM:-0500
TZOFFSETTO:-0400
TZNAME:EDT
DTSTART:20210314T070000
END:DAYLIGHT
BEGIN:STANDARD
TZOFFSETFROM:-0400
TZOFFSETTO:-0500
TZNAME:EST
DTSTART:20211107T060000
END:STANDARD
BEGIN:DAYLIGHT
TZOFFSETFROM:-0500
TZOFFSETTO:-0400
TZNAME:EDT
DTSTART:20220313T070000
END:DAYLIGHT
BEGIN:STANDARD
TZOFFSETFROM:-0400
TZOFFSETTO:-0500
TZNAME:EST
DTSTART:20221106T060000
END:STANDARD
BEGIN:DAYLIGHT
TZOFFSETFROM:-0500
TZOFFSETTO:-0400
TZNAME:EDT
DTSTART:20230312T070000
END:DAYLIGHT
BEGIN:STANDARD
TZOFFSETFROM:-0400
TZOFFSETTO:-0500
TZNAME:EST
DTSTART:20231105T060000
END:STANDARD
END:VTIMEZONE
BEGIN:VEVENT
DTSTART;TZID=America/New_York:20220829T090000
DTEND;TZID=America/New_York:20221028T150000
DTSTAMP:20260424T092702
CREATED:20230929T224249Z
LAST-MODIFIED:20230929T224249Z
UID:10000176-1661763600-1666969200@www.swnetwork.org
SUMMARY:Humanim’s Award Winning Administrative Assistant Career Training program
DESCRIPTION:Humanim’s Administrative Assistant Career Trainingprogram offers a FREE 9-week course of instruction for\nHarford County residents to prepare them for careers as\nadministrative assistants. We provide expert coaching\,\nprofessional development\, technical training\, and two\nnationally recognized certifications–The Microsoft Office:\nOutlook Specialist certification and the Professional\nAdministrative Certification of Excellence. You will receive free job placement assistance and the potential to work with one of the following employers:\n-Aberdeen Proving Ground Federal Credit Union\n-Freedom Federal Credit Union\n-Upper Chesapeake Medical Center
URL:https://www.swnetwork.org/event/humanims-award-winning-administrative-assistant-career-training-program/
CATEGORIES:Community Events
ATTACH;FMTTYPE=image/jpeg:https://eadn-wc02-11422586.nxedge.io/wp-content/uploads/2023/09/JOB-SEEKER-SERVICES-e1656361291464-mqagEr.tmp_.jpg
END:VEVENT
END:VCALENDAR